BEGIN:VCALENDAR
VERSION:2.0
PRODID:-//Curtain Call Dance Center - ECPv6.15.20//NONSGML v1.0//EN
CALSCALE:GREGORIAN
METHOD:PUBLISH
X-WR-CALNAME:Curtain Call Dance Center
X-ORIGINAL-URL:https://ccadance.com
X-WR-CALDESC:Events for Curtain Call Dance Center
REFRESH-INTERVAL;VALUE=DURATION:PT1H
X-Robots-Tag:noindex
X-PUBLISHED-TTL:PT1H
BEGIN:VTIMEZONE
TZID:UTC
BEGIN:STANDARD
TZOFFSETFROM:+0000
TZOFFSETTO:+0000
TZNAME:UTC
DTSTART:20250101T000000
END:STANDARD
END:VTIMEZONE
BEGIN:VEVENT
DTSTART;VALUE=DATE:20260115
DTEND;VALUE=DATE:20260313
DTSTAMP:20260420T131420
CREATED:20250714T190601Z
LAST-MODIFIED:20250714T190601Z
UID:4253-1768435200-1773359999@ccadance.com
SUMMARY:Discover Dance 9 Week Session
DESCRIPTION:
URL:https://ccadance.com/event/discover-dance-9-week-session/
END:VEVENT
BEGIN:VEVENT
DTSTART;VALUE=DATE:20260119
DTEND;VALUE=DATE:20260206
DTSTAMP:20260420T131420
CREATED:20250714T191033Z
LAST-MODIFIED:20250714T191033Z
UID:4255-1768780800-1770335999@ccadance.com
SUMMARY:Hug Grams Fundraiser- Dance Against Cancer
DESCRIPTION:
URL:https://ccadance.com/event/hug-grams-fundraiser-dance-against-cancer/
END:VEVENT
BEGIN:VEVENT
DTSTART;VALUE=DATE:20260216
DTEND;VALUE=DATE:20260217
DTSTAMP:20260420T131420
CREATED:20250714T191210Z
LAST-MODIFIED:20250714T191210Z
UID:4259-1771200000-1771286399@ccadance.com
SUMMARY:Classes in Session- President's Day
DESCRIPTION:
URL:https://ccadance.com/event/classes-in-session-presidents-day/
END:VEVENT
BEGIN:VEVENT
DTSTART;VALUE=DATE:20260223
DTEND;VALUE=DATE:20260227
DTSTAMP:20260420T131420
CREATED:20250714T191322Z
LAST-MODIFIED:20250714T191322Z
UID:4260-1771804800-1772150399@ccadance.com
SUMMARY:Parent Watch Week
DESCRIPTION:
URL:https://ccadance.com/event/parent-watch-week-45/
END:VEVENT
BEGIN:VEVENT
DTSTART;VALUE=DATE:20260223
DTEND;VALUE=DATE:20260227
DTSTAMP:20260420T131420
CREATED:20250714T191603Z
LAST-MODIFIED:20250714T191603Z
UID:4262-1771804800-1772150399@ccadance.com
SUMMARY:Pizza Fundraiser- Dance Against Cancer
DESCRIPTION:
URL:https://ccadance.com/event/pizza-fundraiser-dance-against-cancer-6/
END:VEVENT
END:VCALENDAR