BEGIN:VCALENDAR
VERSION:2.0
PRODID:-//Curtain Call Dance Center - ECPv6.15.20//NONSGML v1.0//EN
CALSCALE:GREGORIAN
METHOD:PUBLISH
X-WR-CALNAME:Curtain Call Dance Center
X-ORIGINAL-URL:https://ccadance.com
X-WR-CALDESC:Events for Curtain Call Dance Center
REFRESH-INTERVAL;VALUE=DURATION:PT1H
X-Robots-Tag:noindex
X-PUBLISHED-TTL:PT1H
BEGIN:VTIMEZONE
TZID:UTC
BEGIN:STANDARD
TZOFFSETFROM:+0000
TZOFFSETTO:+0000
TZNAME:UTC
DTSTART:20240101T000000
END:STANDARD
END:VTIMEZONE
BEGIN:VEVENT
DTSTART;VALUE=DATE:20250929
DTEND;VALUE=DATE:20251003
DTSTAMP:20260421T163512
CREATED:20250609T152646Z
LAST-MODIFIED:20250609T152646Z
UID:4212-1759104000-1759449599@ccadance.com
SUMMARY:Bring a Friend to Dance Week
DESCRIPTION:
URL:https://ccadance.com/event/bring-a-friend-to-dance-week-2/
END:VEVENT
BEGIN:VEVENT
DTSTART;VALUE=DATE:20251001
DTEND;VALUE=DATE:20251002
DTSTAMP:20260421T163512
CREATED:20250714T184046Z
LAST-MODIFIED:20250714T184046Z
UID:4243-1759276800-1759363199@ccadance.com
SUMMARY:Nutcracker Tickets ON SALE
DESCRIPTION:
URL:https://ccadance.com/event/nutcracker-tickets-on-sale-2/
END:VEVENT
BEGIN:VEVENT
DTSTART;VALUE=DATE:20251004
DTEND;VALUE=DATE:20251005
DTSTAMP:20260421T163512
CREATED:20250630T225544Z
LAST-MODIFIED:20250630T225544Z
UID:4220-1759536000-1759622399@ccadance.com
SUMMARY:Nutcracker Pictures
DESCRIPTION:
URL:https://ccadance.com/event/nutcracker-pictures-3/
END:VEVENT
BEGIN:VEVENT
DTSTART;VALUE=DATE:20251006
DTEND;VALUE=DATE:20251010
DTSTAMP:20260421T163512
CREATED:20250609T152409Z
LAST-MODIFIED:20250609T152409Z
UID:4210-1759708800-1760054399@ccadance.com
SUMMARY:PINK OUT WEEK
DESCRIPTION:
URL:https://ccadance.com/event/pink-out-week-5/
END:VEVENT
BEGIN:VEVENT
DTSTART;VALUE=DATE:20251006
DTEND;VALUE=DATE:20251024
DTSTAMP:20260421T163512
CREATED:20250714T183801Z
LAST-MODIFIED:20250714T183801Z
UID:4240-1759708800-1761263999@ccadance.com
SUMMARY:Boo Gram Fundraiser- Dance Against Cancer
DESCRIPTION:
URL:https://ccadance.com/event/boo-gram-fundraiser-dance-against-cancer/
END:VEVENT
BEGIN:VEVENT
DTSTART;VALUE=DATE:20251008
DTEND;VALUE=DATE:20251009
DTSTAMP:20260421T163512
CREATED:20250618T221055Z
LAST-MODIFIED:20250618T221055Z
UID:4217-1759881600-1759967999@ccadance.com
SUMMARY:Chick fil A Fundraiser-Dance Against Cancer
DESCRIPTION:
URL:https://ccadance.com/event/chick-fil-a-fundraiser-dance-against-cancer/
END:VEVENT
BEGIN:VEVENT
DTSTART;VALUE=DATE:20251011
DTEND;VALUE=DATE:20251012
DTSTAMP:20260421T163512
CREATED:20250714T192237Z
LAST-MODIFIED:20250714T192237Z
UID:4268-1760140800-1760227199@ccadance.com
SUMMARY:Curtain Call Homecoming Dance Fundraiser- Dance Against Cancer
DESCRIPTION:
URL:https://ccadance.com/event/curtain-call-homecoming-dance-fundraiser-dance-against-cancer/
END:VEVENT
BEGIN:VEVENT
DTSTART;VALUE=DATE:20251018
DTEND;VALUE=DATE:20251019
DTSTAMP:20260421T163512
CREATED:20250423T215705Z
LAST-MODIFIED:20250423T220533Z
UID:4149-1760745600-1760831999@ccadance.com
SUMMARY:No Nutcracker Rehearsal
DESCRIPTION:
URL:https://ccadance.com/event/no-nutcracker-rehearsal/
END:VEVENT
BEGIN:VEVENT
DTSTART;VALUE=DATE:20251027
DTEND;VALUE=DATE:20251031
DTSTAMP:20260421T163512
CREATED:20250714T183616Z
LAST-MODIFIED:20250714T183616Z
UID:4239-1761523200-1761868799@ccadance.com
SUMMARY:Parent Watch Week
DESCRIPTION:
URL:https://ccadance.com/event/parent-watch-week-41/
END:VEVENT
BEGIN:VEVENT
DTSTART;VALUE=DATE:20251027
DTEND;VALUE=DATE:20251031
DTSTAMP:20260421T163512
CREATED:20250714T183852Z
LAST-MODIFIED:20250714T183852Z
UID:4242-1761523200-1761868799@ccadance.com
SUMMARY:Spooky Ice Cream Fundraiser- Dance Against Cancer
DESCRIPTION:
URL:https://ccadance.com/event/spooky-ice-cream-fundraiser-dance-against-cancer/
END:VEVENT
END:VCALENDAR