BEGIN:VCALENDAR
VERSION:2.0
PRODID:-//Curtain Call Dance Center - ECPv6.15.20//NONSGML v1.0//EN
CALSCALE:GREGORIAN
METHOD:PUBLISH
X-WR-CALNAME:Curtain Call Dance Center
X-ORIGINAL-URL:https://ccadance.com
X-WR-CALDESC:Events for Curtain Call Dance Center
REFRESH-INTERVAL;VALUE=DURATION:PT1H
X-Robots-Tag:noindex
X-PUBLISHED-TTL:PT1H
BEGIN:VTIMEZONE
TZID:UTC
BEGIN:STANDARD
TZOFFSETFROM:+0000
TZOFFSETTO:+0000
TZNAME:UTC
DTSTART:20230101T000000
END:STANDARD
END:VTIMEZONE
BEGIN:VEVENT
DTSTART;TZID=UTC:20241205T170000
DTEND;TZID=UTC:20241205T210000
DTSTAMP:20260425T180935
CREATED:20241202T152521Z
LAST-MODIFIED:20241202T160357Z
UID:4020-1733418000-1733432400@ccadance.com
SUMMARY:SrCo 12.5 rehearsal
DESCRIPTION:DRESS REHEARSAL tonight for Saturday community performance! \n*GARMENT BAG NEEDED in order to take costume home. Parents required to sign costume compliance. \n\nskin tone cami under PC blue leo\nskin tone tights\ncenter part low bun\nno jewelry\ntan jazz shoes\n\nSchedule: Reh 12.5_24 / Practice holiday pieces in costume\, costumes go home until Dec. 16. \n8:15-8:30p – PARENTS ENCOURAGED to attend review of Itinerary for Dec 7 performance and parade; studio A. \n*Parade Saturday – check emails and web calendar for itinerary and route info
URL:https://ccadance.com/event/srco-12-5-rehearsal/
END:VEVENT
BEGIN:VEVENT
DTSTART;TZID=UTC:20241205T183000
DTEND;TZID=UTC:20241205T200000
DTSTAMP:20260425T180935
CREATED:20241202T152336Z
LAST-MODIFIED:20241202T160129Z
UID:4019-1733423400-1733428800@ccadance.com
SUMMARY:JrCo 12.5 Rehearsal
DESCRIPTION:DRESS REHEARSAL tonight for Saturday community performance! \n*GARMENT BAG NEEDED in order to take costume home. Parents required to sign costume compliance. \n\nskin tone cami under PC blue leo\nskin tone tights\ncenter part low bun\nno jewelry\ntan jazz shoes\n\nRehearse jazz and holiday pieces. Practice holiday pieces in costume\, costumes go home until Dec. 16. \n8:15-8:30p – PARENTS ENCOURAGED to attend review of Itinerary for Dec 7 performance and parade; studio A. \n*Parade Saturday – check emails and web calendar for itinerary and route info
URL:https://ccadance.com/event/jrco-12-5-rehearsal/
END:VEVENT
BEGIN:VEVENT
DTSTART;TZID=UTC:20241207T080000
DTEND;TZID=UTC:20241207T100000
DTSTAMP:20260425T180935
CREATED:20240710T230134Z
LAST-MODIFIED:20241102T173730Z
UID:3801-1733558400-1733565600@ccadance.com
SUMMARY:PC 12.7 Performances
DESCRIPTION:Both JrCo & SrCo Holiday Repertoire \nBD Lion’s Club Breakfast\nCall 8:15a/  Show 9:00-9:30a \nItinerary: Itinerary 12.7_24 \n 
URL:https://ccadance.com/event/pc-performance-bd-lions-club-breakfast/
END:VEVENT
BEGIN:VEVENT
DTSTART;TZID=UTC:20241207T163000
DTEND;TZID=UTC:20241207T190000
DTSTAMP:20260425T180935
CREATED:20241008T155333Z
LAST-MODIFIED:20241202T150753Z
UID:3944-1733589000-1733598000@ccadance.com
SUMMARY:PARADE! 12.7 Christmas Under the Stars
DESCRIPTION:Curtain Call is a featured unit in the Christmas Under the Stars Parade in Brownsburg! \nCall: 4:45p/ Step off 6p –  NEW LOCATION: Harris Academy\, pick up near Enderly Avenue \nImportant – Itinerary: Parade.Itinerary_24 \nRoute map: \n \n 
URL:https://ccadance.com/event/parade-12-7-christmas-under-the-stars/
END:VEVENT
BEGIN:VEVENT
DTSTART;VALUE=DATE:20241209
DTEND;VALUE=DATE:20241213
DTSTAMP:20260425T180935
CREATED:20240626T193601Z
LAST-MODIFIED:20240626T193601Z
UID:3703-1733702400-1734047999@ccadance.com
SUMMARY:Parent Watch Week
DESCRIPTION:Please join us the last 5-7 minutes of classes.  Concert music and costume reveal.
URL:https://ccadance.com/event/parent-watch-week-31/
END:VEVENT
BEGIN:VEVENT
DTSTART;TZID=UTC:20241209T170000
DTEND;TZID=UTC:20241212T200000
DTSTAMP:20260425T180935
CREATED:20240727T220551Z
LAST-MODIFIED:20240727T220551Z
UID:3847-1733763600-1734033600@ccadance.com
SUMMARY:Hot Chocolate & Nothing Bundt Cakes fundraiser- Dance Against Cancer
DESCRIPTION:
URL:https://ccadance.com/event/hot-chocolate-nothing-bundt-cakes-fundraiser-dance-against-cancer/
END:VEVENT
BEGIN:VEVENT
DTSTART;TZID=UTC:20241212T160000
DTEND;TZID=UTC:20241212T210000
DTSTAMP:20260425T180935
CREATED:20241105T153642Z
LAST-MODIFIED:20241105T153642Z
UID:4006-1734019200-1734037200@ccadance.com
SUMMARY:Tour Costume pick up Show 3
DESCRIPTION:If you are performing in the Our Shepherd Lutheran Nutcracker on Tour show tomorrow\, Dec 13\, you will pick up your costumes today. *MUST HAVE GARMENT BAG\, PARENTS ONLY
URL:https://ccadance.com/event/tour-costume-pick-up-show-3/
END:VEVENT
BEGIN:VEVENT
DTSTART;TZID=UTC:20241212T170000
DTEND;TZID=UTC:20241212T213000
DTSTAMP:20260425T180935
CREATED:20241211T041636Z
LAST-MODIFIED:20241211T041636Z
UID:4029-1734022800-1734039000@ccadance.com
SUMMARY:SrCo 12.12 Rehearsal *Preview Night!
DESCRIPTION:Attire: Dress code BLUE\, tights for ballet/pnt\, black jz pants for all other genre\, black jz shoes; center part low bun\, no jewelry except studs. \nParents encouraged to attend our Preview Night of all dances learned thus far 8:25-8:50. Any new info about Sat will be announced at this time. \n*Dancers will remain at rehearsal until 9:15p to wrap up the semester and take a little itme for T.E.A.M. Time. \nSchedule: Reh 12.12_24
URL:https://ccadance.com/event/srco-12-12-rehearsal-preview-night/
END:VEVENT
BEGIN:VEVENT
DTSTART;TZID=UTC:20241212T183000
DTEND;TZID=UTC:20241212T200000
DTSTAMP:20260425T180935
CREATED:20241211T041828Z
LAST-MODIFIED:20241211T041828Z
UID:4031-1734028200-1734033600@ccadance.com
SUMMARY:JrCo 12.12 Rehearsal
DESCRIPTION:WEAR YOUR FAVORITE CHRISTMAS PJs or COMFY CLOTHES. \n 
URL:https://ccadance.com/event/jrco-12-12-rehearsal/
END:VEVENT
BEGIN:VEVENT
DTSTART;TZID=UTC:20241213T080000
DTEND;TZID=UTC:20241213T100000
DTSTAMP:20260425T180935
CREATED:20241008T181414Z
LAST-MODIFIED:20241105T153849Z
UID:3948-1734076800-1734084000@ccadance.com
SUMMARY:Nut 12.13 "ON TOUR"
DESCRIPTION:Our Shepherd Lutheran – 9201 E County Rd 100 N\, Avon 46123 \n8:00a Call *must arrive by 8a bc of parent drop off entrance situation/ 9:00a Show\, depart by 9:45-10a \nItinerary: TourItinerary.OurShphrd \n*return costumes Mon Dec 16\, 4-9p
URL:https://ccadance.com/event/nut-12-13-on-tour/
END:VEVENT
BEGIN:VEVENT
DTSTART;TZID=UTC:20241214T123000
DTEND;TZID=UTC:20241214T180000
DTSTAMP:20260425T180935
CREATED:20241008T160025Z
LAST-MODIFIED:20241102T173923Z
UID:3946-1734179400-1734199200@ccadance.com
SUMMARY:PC 12.14 Performances
DESCRIPTION:JrCo and SrCo Holiday Repertoire: \nCall 12:45p/ Show 1:30p – Independence Village Zionsville West \n\nAND \nCall 4:15p/ Show 5:15p – Carmel Christkindlemarkt \nItinerary: Itinerary12.14_24
URL:https://ccadance.com/event/pc-12-14-performances/
END:VEVENT
BEGIN:VEVENT
DTSTART;TZID=UTC:20241221T100000
DTEND;TZID=UTC:20241221T120000
DTSTAMP:20260425T180935
CREATED:20241209T222049Z
LAST-MODIFIED:20241209T222049Z
UID:4026-1734775200-1734782400@ccadance.com
SUMMARY:Theatre Jazz Master Class
DESCRIPTION:White Christmas Master Class.pdf-1
URL:https://ccadance.com/event/theatre-jazz-master-class/
END:VEVENT
BEGIN:VEVENT
DTSTART;VALUE=DATE:20241223
DTEND;VALUE=DATE:20250106
DTSTAMP:20260425T180935
CREATED:20240626T214942Z
LAST-MODIFIED:20240626T214942Z
UID:3746-1734912000-1736121599@ccadance.com
SUMMARY:Winter Break
DESCRIPTION:
URL:https://ccadance.com/event/winter-break-6/
END:VEVENT
END:VCALENDAR