BEGIN:VCALENDAR
VERSION:2.0
PRODID:-//Curtain Call Dance Center - ECPv6.15.20//NONSGML v1.0//EN
CALSCALE:GREGORIAN
METHOD:PUBLISH
X-ORIGINAL-URL:https://ccadance.com
X-WR-CALDESC:Events for Curtain Call Dance Center
REFRESH-INTERVAL;VALUE=DURATION:PT1H
X-Robots-Tag:noindex
X-PUBLISHED-TTL:PT1H
BEGIN:VTIMEZONE
TZID:UTC
BEGIN:STANDARD
TZOFFSETFROM:+0000
TZOFFSETTO:+0000
TZNAME:UTC
DTSTART:20230101T000000
END:STANDARD
END:VTIMEZONE
BEGIN:VEVENT
DTSTART;VALUE=DATE:20240301
DTEND;VALUE=DATE:20240401
DTSTAMP:20260425T225554
CREATED:20240110T233437Z
LAST-MODIFIED:20240131T230653Z
UID:3452-1709251200-1711929599@ccadance.com
SUMMARY:Keep Fit Fundraiser for DAC
DESCRIPTION:
URL:https://ccadance.com/event/keep-fit-in-february-fundraiser-for-dac/
END:VEVENT
BEGIN:VEVENT
DTSTART;VALUE=DATE:20240306
DTEND;VALUE=DATE:20240308
DTSTAMP:20260425T225554
CREATED:20230710T233301Z
LAST-MODIFIED:20240110T221716Z
UID:3020-1709683200-1709855999@ccadance.com
SUMMARY:Discover Dance
DESCRIPTION:9 week session  times to be announced \n(3) weeks of jazz \n(3) weeks of tap \n(3) weeks of ballet
URL:https://ccadance.com/event/midseason-classes-8/
LOCATION:Curtain Call Dance Center\, 1833 Expo Ln.\, Indianapolis\, IL\, 46214\, United States
END:VEVENT
BEGIN:VEVENT
DTSTART;TZID=UTC:20240306T060000
DTEND;TZID=UTC:20240306T220000
DTSTAMP:20260425T225554
CREATED:20230802T224655Z
LAST-MODIFIED:20230802T224655Z
UID:3115-1709704800-1709762400@ccadance.com
SUMMARY:Chick-fil-A Fundraiser
DESCRIPTION:
URL:https://ccadance.com/event/chick-fil-a-fundraiser-10/
END:VEVENT
BEGIN:VEVENT
DTSTART;TZID=UTC:20240307T170000
DTEND;TZID=UTC:20240307T210000
DTSTAMP:20260425T225554
CREATED:20240306T031649Z
LAST-MODIFIED:20240306T210108Z
UID:3527-1709830800-1709845200@ccadance.com
SUMMARY:SrCo 3.7 Rehearsal
DESCRIPTION:Attire: dress code RED – tights for ballet\, blk jazz pants and blk shoes for all other styles\, hair any low slick pony\, no jewelry except studs \nBring warmies for in between rehearsals and T.E.A.M. time. \nSchedule: Reh 3.7_24 \n 
URL:https://ccadance.com/event/srco-3-7-rehearsal/
END:VEVENT
BEGIN:VEVENT
DTSTART;TZID=UTC:20240307T183000
DTEND;TZID=UTC:20240307T203000
DTSTAMP:20260425T225554
CREATED:20240305T174733Z
LAST-MODIFIED:20240305T174733Z
UID:3525-1709836200-1709843400@ccadance.com
SUMMARY:JrCo 3.7 Rehearsal
DESCRIPTION:Attire: dress code RED\, pony tail\, black jazz pants\, black shoes\, no jewelry except studs. \nPriority: CORN
URL:https://ccadance.com/event/jrco-3-7-rehearsal/
END:VEVENT
BEGIN:VEVENT
DTSTART;TZID=UTC:20240311T170000
DTEND;TZID=UTC:20240314T200000
DTSTAMP:20260425T225554
CREATED:20230717T144002Z
LAST-MODIFIED:20230717T144002Z
UID:3088-1710176400-1710446400@ccadance.com
SUMMARY:Pizza fundraiser for DAC
DESCRIPTION:
URL:https://ccadance.com/event/pizza-fundraiser-for-dac-3/
END:VEVENT
BEGIN:VEVENT
DTSTART;VALUE=DATE:20240313
DTEND;VALUE=DATE:20240315
DTSTAMP:20260425T225554
CREATED:20230710T233357Z
LAST-MODIFIED:20240110T221635Z
UID:3022-1710288000-1710460799@ccadance.com
SUMMARY:Final Discover Dance Classes
DESCRIPTION:9 week session  times to be announced \n(3) weeks of jazz \n(3) weeks of tap \n(3) weeks of ballet
URL:https://ccadance.com/event/final-midseason-classes/
END:VEVENT
BEGIN:VEVENT
DTSTART;TZID=UTC:20240314T170000
DTEND;TZID=UTC:20240314T210000
DTSTAMP:20260425T225554
CREATED:20240217T003504Z
LAST-MODIFIED:20240313T013033Z
UID:3504-1710435600-1710450000@ccadance.com
SUMMARY:SrCo 3.14 Rehearsal
DESCRIPTION:Attire: Dress code GREEN! Should be form fitting danceable attire\, any slick low pony\, no jewelry except studs. \nSchedule: Reh 3.14_24
URL:https://ccadance.com/event/srco-3-14-rehearsal/
END:VEVENT
BEGIN:VEVENT
DTSTART;TZID=UTC:20240314T183000
DTEND;TZID=UTC:20240314T203000
DTSTAMP:20260425T225554
CREATED:20240217T003401Z
LAST-MODIFIED:20240313T013150Z
UID:3502-1710441000-1710448200@ccadance.com
SUMMARY:JrCo 3.14 Rehearsal
DESCRIPTION:Attire: Dress code GREEN! Should be form fitting danceable attire\, high pony\, no jewelry except studs. \n6:30p – parent meeting per alterations/sewing musical theatre costumes
URL:https://ccadance.com/event/jrco-3-14-rehearsal/
END:VEVENT
BEGIN:VEVENT
DTSTART;TZID=UTC:20240321T170000
DTEND;TZID=UTC:20240321T210000
DTSTAMP:20260425T225554
CREATED:20240320T030308Z
LAST-MODIFIED:20240320T030308Z
UID:3542-1711040400-1711054800@ccadance.com
SUMMARY:SrCo 3.21 Rehearsal
DESCRIPTION:Attire: Think SPRING! Wear your favorite DANCEABLE spring colors. Any slick bun\, no jewelry except studs. \nSchedule: Reh 3.21_24 \n*Thank you all for quick responses about absences!
URL:https://ccadance.com/event/srco-3-21-rehearsal/
END:VEVENT
BEGIN:VEVENT
DTSTART;TZID=UTC:20240321T183000
DTEND;TZID=UTC:20240321T203000
DTSTAMP:20260425T225554
CREATED:20240320T022325Z
LAST-MODIFIED:20240320T022325Z
UID:3540-1711045800-1711053000@ccadance.com
SUMMARY:JrCo 3.21 Rehearsal
DESCRIPTION:Attire: dress code SPRING! Wear your favorite spring colors *must be danceable attire\, high pony\, no jewelry except studs. \n*Bring all dance shoes. Last class before Spring Break. \n*Please inform us if you will be missing this week or Apr 4 due to your own break.
URL:https://ccadance.com/event/jrco-3-21-rehearsal/
END:VEVENT
BEGIN:VEVENT
DTSTART;VALUE=DATE:20240325
DTEND;VALUE=DATE:20240330
DTSTAMP:20260425T225554
CREATED:20230710T232133Z
LAST-MODIFIED:20230710T232133Z
UID:3002-1711324800-1711756799@ccadance.com
SUMMARY:Spring Break
DESCRIPTION:
URL:https://ccadance.com/event/spring-break-5/
LOCATION:Curtain Call Dance Center\, 1833 Expo Ln.\, Indianapolis\, IL\, 46214\, United States
END:VEVENT
END:VCALENDAR