BEGIN:VCALENDAR
VERSION:2.0
PRODID:-//Curtain Call Dance Center - ECPv6.15.20//NONSGML v1.0//EN
CALSCALE:GREGORIAN
METHOD:PUBLISH
X-WR-CALNAME:Curtain Call Dance Center
X-ORIGINAL-URL:https://ccadance.com
X-WR-CALDESC:Events for Curtain Call Dance Center
REFRESH-INTERVAL;VALUE=DURATION:PT1H
X-Robots-Tag:noindex
X-PUBLISHED-TTL:PT1H
BEGIN:VTIMEZONE
TZID:UTC
BEGIN:STANDARD
TZOFFSETFROM:+0000
TZOFFSETTO:+0000
TZNAME:UTC
DTSTART:20220101T000000
END:STANDARD
END:VTIMEZONE
BEGIN:VEVENT
DTSTART;TZID=UTC:20230427T163000
DTEND;TZID=UTC:20230427T210000
DTSTAMP:20260421T114102
CREATED:20230423T202114Z
LAST-MODIFIED:20230423T231155Z
UID:2873-1682613000-1682629200@ccadance.com
SUMMARY:SrCo 4.27 Rehearsal
DESCRIPTION:Attire: Dress code EGGPLANT\, left side part low bun\, no jewelry except studs (not hoops). \n*Costumes needed: Black Pearl-also bring clips for headpiece\, Gershwin\, Wndrfl Wrld\, One. \n”Costume” means: all pieces include headpieces \nPic poses set for: Dilmano\, Diamonds\, BlkPrl\, Dog Days \nBring all shoes\, consider what being a valued team member means as well as dance room etiquette when in group rehearsals with Dance Cpts and TLs. \nSchedule: Reh 4.27_23 \n 
URL:https://ccadance.com/event/srco-4-27-rehearsal/
END:VEVENT
BEGIN:VEVENT
DTSTART;TZID=UTC:20230424T000000
DTEND;TZID=UTC:20230428T000000
DTSTAMP:20260421T114102
CREATED:20221107T193859Z
LAST-MODIFIED:20221107T193859Z
UID:2098-1682294400-1682640000@ccadance.com
SUMMARY:Costumes Distribution Week
DESCRIPTION:All accounts must be cleared to receive costumes including May tuition.
URL:https://ccadance.com/event/costumes-distribution-week/
END:VEVENT
BEGIN:VEVENT
DTSTART;TZID=UTC:20230424T000000
DTEND;TZID=UTC:20230428T000000
DTSTAMP:20260421T114102
CREATED:20221107T193700Z
LAST-MODIFIED:20221107T193700Z
UID:2097-1682294400-1682640000@ccadance.com
SUMMARY:Parent Watch Week
DESCRIPTION:Parents are invited into the dance rooms the last 5-10 minutes of class. Costumes will be distributed as well.
URL:https://ccadance.com/event/parent-watch-week-20/
END:VEVENT
END:VCALENDAR