BEGIN:VCALENDAR
VERSION:2.0
PRODID:-//Curtain Call Dance Center - ECPv6.15.20//NONSGML v1.0//EN
CALSCALE:GREGORIAN
METHOD:PUBLISH
X-WR-CALNAME:Curtain Call Dance Center
X-ORIGINAL-URL:https://ccadance.com
X-WR-CALDESC:Events for Curtain Call Dance Center
REFRESH-INTERVAL;VALUE=DURATION:PT1H
X-Robots-Tag:noindex
X-PUBLISHED-TTL:PT1H
BEGIN:VTIMEZONE
TZID:UTC
BEGIN:STANDARD
TZOFFSETFROM:+0000
TZOFFSETTO:+0000
TZNAME:UTC
DTSTART:20240101T000000
END:STANDARD
END:VTIMEZONE
BEGIN:VEVENT
DTSTART;VALUE=DATE:20250527
DTEND;VALUE=DATE:20250620
DTSTAMP:20260426T001354
CREATED:20250407T195454Z
LAST-MODIFIED:20250407T195454Z
UID:4119-1748304000-1750377599@ccadance.com
SUMMARY:Summer Dance Classes
DESCRIPTION:Summer Dance Classes 2025 (1)-1
URL:https://ccadance.com/event/summer-dance-classes/
END:VEVENT
BEGIN:VEVENT
DTSTART;TZID=UTC:20250529T170000
DTEND;TZID=UTC:20250529T203000
DTSTAMP:20260426T001354
CREATED:20250407T033301Z
LAST-MODIFIED:20250528T025007Z
UID:4110-1748538000-1748550600@ccadance.com
SUMMARY:SrCo 5.29 LAST Rehearsal
DESCRIPTION:5:00-8:30 – SrCo – Last Rehearsal \n\nDress code: BLUE leo\, pink tights for ballet\, pointe\, black Jazz pants for other. Center part slick low bun *hairnet.\n*No undergarments other than skin tone.\nALL SHOES.  NO PC EARRINGS needed\, no other jewelry. No perf makeup needed. \nWe will rehearse (in our rehearsal attire) PO for Show 1\, *ONLY PC dances and including all Specialties for both shows. \n\n\n5:00 Dancers arrive\, leave bags/items Studio B\, Water bottles and shoes to Studio A. \n5:15-5:55 Warm up and stretch \n6:00 Begin Show 1/Act I –insert all specialties close as possible to show order. All dancers stay in A to clap and support each other \nAt “intermission” take 5min break \nAfter: review PC Specific Itinerary for concert\, wrap up\, dress reh & concert Q/A\, cooldown stretch \n8:30 Dismiss – big weekend! \n 
URL:https://ccadance.com/event/srco-5-29-rehearsal/
END:VEVENT
END:VCALENDAR