BEGIN:VCALENDAR
VERSION:2.0
PRODID:-//Curtain Call Dance Center - ECPv6.15.20//NONSGML v1.0//EN
CALSCALE:GREGORIAN
METHOD:PUBLISH
X-ORIGINAL-URL:https://ccadance.com
X-WR-CALDESC:Events for Curtain Call Dance Center
REFRESH-INTERVAL;VALUE=DURATION:PT1H
X-Robots-Tag:noindex
X-PUBLISHED-TTL:PT1H
BEGIN:VTIMEZONE
TZID:UTC
BEGIN:STANDARD
TZOFFSETFROM:+0000
TZOFFSETTO:+0000
TZNAME:UTC
DTSTART:20240101T000000
END:STANDARD
END:VTIMEZONE
BEGIN:VEVENT
DTSTART;VALUE=DATE:20250421
DTEND;VALUE=DATE:20250425
DTSTAMP:20260422T122420
CREATED:20240626T193955Z
LAST-MODIFIED:20240626T193955Z
UID:3711-1745193600-1745539199@ccadance.com
SUMMARY:Parent Watch Week
DESCRIPTION:Please join us the last 5-7 minutes of classes.
URL:https://ccadance.com/event/parent-watch-week-35/
END:VEVENT
BEGIN:VEVENT
DTSTART;TZID=UTC:20250421T170000
DTEND;TZID=UTC:20250424T200000
DTSTAMP:20260422T122420
CREATED:20240727T221019Z
LAST-MODIFIED:20250330T161911Z
UID:3856-1745254800-1745524800@ccadance.com
SUMMARY:Carnival Food fundraiser- Dance Against Cancer
DESCRIPTION:Select all your favorites.
URL:https://ccadance.com/event/nachos-fundraiser-dance-against-cancer-2/
END:VEVENT
BEGIN:VEVENT
DTSTART;TZID=UTC:20250424T170000
DTEND;TZID=UTC:20250424T203000
DTSTAMP:20260422T122420
CREATED:20250423T154144Z
LAST-MODIFIED:20250423T154144Z
UID:4147-1745514000-1745526600@ccadance.com
SUMMARY:SrCo DRESS REHEARSAL
DESCRIPTION:DRESS REH FOR DAC \nAttire: tan tights\, *bring pink with you\, center part low slick bun – SEVERAL DID NOT DO SLICK LAST WEEK AND YOU SHOULD LOOK PERFORMANCE-READY; performance earrings\, no make up necessary\, blue PC leo\, black PC jazz pants\, warmies. \nSchedule: Reh 4.24_25 \nNOTE EARLY END TIME SO YOU CAN REST FOR THE WEEKEND
URL:https://ccadance.com/event/srco-dress-rehearsal-2/
END:VEVENT
BEGIN:VEVENT
DTSTART;TZID=UTC:20250424T183000
DTEND;TZID=UTC:20250424T200000
DTSTAMP:20260422T122420
CREATED:20250421T201859Z
LAST-MODIFIED:20250421T201859Z
UID:4145-1745519400-1745524800@ccadance.com
SUMMARY:JrCo 4.21 DRESS REHEARSAL
DESCRIPTION:*DRESS REHEARSAL FOR DAC \nAttire: skin tone tights\, skin tone cami leo\, PC Blue leo over cami\, PC black jazz pants\, high pony\, no jewelry of any kind\, no make up necessary. *Will wear performance make up for DAC. \nBRING: pink tights\, tan jazz shoes\, pink ballet shoes\, socks for HH. \nAll costumes and HH shoes are at CC and will remain here thru DAC. \nBlue leo/jz pants  with or without PC jacket as cover up will be worn for Candle Ceremony at DAC. \nFinale costume for DAC will be their last costume they wear.
URL:https://ccadance.com/event/jrco-4-21-dress-rehearsal/
END:VEVENT
END:VCALENDAR