BEGIN:VCALENDAR
VERSION:2.0
PRODID:-//Curtain Call Dance Center - ECPv6.15.20//NONSGML v1.0//EN
CALSCALE:GREGORIAN
METHOD:PUBLISH
X-WR-CALNAME:Curtain Call Dance Center
X-ORIGINAL-URL:https://ccadance.com
X-WR-CALDESC:Events for Curtain Call Dance Center
REFRESH-INTERVAL;VALUE=DURATION:PT1H
X-Robots-Tag:noindex
X-PUBLISHED-TTL:PT1H
BEGIN:VTIMEZONE
TZID:UTC
BEGIN:STANDARD
TZOFFSETFROM:+0000
TZOFFSETTO:+0000
TZNAME:UTC
DTSTART:20240101T000000
END:STANDARD
END:VTIMEZONE
BEGIN:VEVENT
DTSTART;TZID=UTC:20250410T170000
DTEND;TZID=UTC:20250410T210000
DTSTAMP:20260422T233523
CREATED:20250409T074500Z
LAST-MODIFIED:20250409T130735Z
UID:4127-1744304400-1744318800@ccadance.com
SUMMARY:SrCo 4.10 Rehearsal
DESCRIPTION:Attire: dress code BLUE PC leo\, tights for ballet\, must have black jaz pants for all other genre\, all shoes\, *black jazz\, any slick low bun\, no jewelry except studs. \nBring water\, light snack \nSchedule: Reh 4.10_25 \n 
URL:https://ccadance.com/event/srco-4-10-rehearsal/
END:VEVENT
BEGIN:VEVENT
DTSTART;TZID=UTC:20250410T183000
DTEND;TZID=UTC:20250410T200000
DTSTAMP:20260422T233523
CREATED:20250409T074259Z
LAST-MODIFIED:20250409T074259Z
UID:4126-1744309800-1744315200@ccadance.com
SUMMARY:JrCo 4.10 Rehearsal
DESCRIPTION:Attire: Dress code BLUE PC leo\, black jazz pants with pink tights under for ballet rehearsal. Black jazz shoes\, bring all shoes and socks for HH. High pony\, no jewelry except studs. \nReview new Finale choreo\, continue perfecting all dances.\n**PLEASE practice the new Jr/Mini Co feature amd come prepared for all dances.
URL:https://ccadance.com/event/jrco-4-10-rehearsal/
END:VEVENT
END:VCALENDAR