BEGIN:VCALENDAR
VERSION:2.0
PRODID:-//Curtain Call Dance Center - ECPv6.15.20//NONSGML v1.0//EN
CALSCALE:GREGORIAN
METHOD:PUBLISH
X-ORIGINAL-URL:https://ccadance.com
X-WR-CALDESC:Events for Curtain Call Dance Center
REFRESH-INTERVAL;VALUE=DURATION:PT1H
X-Robots-Tag:noindex
X-PUBLISHED-TTL:PT1H
BEGIN:VTIMEZONE
TZID:UTC
BEGIN:STANDARD
TZOFFSETFROM:+0000
TZOFFSETTO:+0000
TZNAME:UTC
DTSTART:20240101T000000
END:STANDARD
END:VTIMEZONE
BEGIN:VEVENT
DTSTART;VALUE=DATE:20250116
DTEND;VALUE=DATE:20250314
DTSTAMP:20260425T153436
CREATED:20240717T163923Z
LAST-MODIFIED:20241106T194755Z
UID:3824-1736985600-1741910399@ccadance.com
SUMMARY:Mid-Season Session (9 weeks)
DESCRIPTION:
URL:https://ccadance.com/event/mid-season-session-6-weeks/
END:VEVENT
BEGIN:VEVENT
DTSTART;TZID=UTC:20250313T170000
DTEND;TZID=UTC:20250313T210000
DTSTAMP:20260425T153436
CREATED:20250312T032823Z
LAST-MODIFIED:20250312T032823Z
UID:4093-1741885200-1741899600@ccadance.com
SUMMARY:SrCo 3.13 Rehearsal
DESCRIPTION:Attire: dress code BLUE!Tights for ballet & pointe/blk Jz pant for all other genre; any slick low pony\, jazz shoes\, no jewelry except studs. \n*BRING ALL SHOES\, snack\, etc \n5:00-9:00 All Dancers\, priority = Finale\, finish modern
URL:https://ccadance.com/event/srco-3-13-rehearsal/
END:VEVENT
BEGIN:VEVENT
DTSTART;TZID=UTC:20250313T183000
DTEND;TZID=UTC:20250313T200000
DTSTAMP:20260425T153436
CREATED:20250312T032313Z
LAST-MODIFIED:20250312T032313Z
UID:4090-1741890600-1741896000@ccadance.com
SUMMARY:JrCo 3.13 Rehearsal
DESCRIPTION:Attire: dress code GREEN for upcoming St Patrick’s Day!\, pink or tan tights for ballet\, can put on black jazz pants for jazz\, high pony\, no jewelry except studs; sweatpants ok for rehearsing HH. \nWe will continue to work on ALL THREE company dances at each rehearsal\, *including learning Finale in April! \nDancers must have with them at every rehearsal: \n\nsocks\nballet shoes\njazz shoes
URL:https://ccadance.com/event/jrco-3-13-rehearsal/
END:VEVENT
END:VCALENDAR