BEGIN:VCALENDAR
VERSION:2.0
PRODID:-//Curtain Call Dance Center - ECPv6.15.20//NONSGML v1.0//EN
CALSCALE:GREGORIAN
METHOD:PUBLISH
X-WR-CALNAME:Curtain Call Dance Center
X-ORIGINAL-URL:https://ccadance.com
X-WR-CALDESC:Events for Curtain Call Dance Center
REFRESH-INTERVAL;VALUE=DURATION:PT1H
X-Robots-Tag:noindex
X-PUBLISHED-TTL:PT1H
BEGIN:VTIMEZONE
TZID:UTC
BEGIN:STANDARD
TZOFFSETFROM:+0000
TZOFFSETTO:+0000
TZNAME:UTC
DTSTART:20240101T000000
END:STANDARD
END:VTIMEZONE
BEGIN:VEVENT
DTSTART;VALUE=DATE:20250116
DTEND;VALUE=DATE:20250314
DTSTAMP:20260423T084909
CREATED:20240717T163923Z
LAST-MODIFIED:20241106T194755Z
UID:3824-1736985600-1741910399@ccadance.com
SUMMARY:Mid-Season Session (9 weeks)
DESCRIPTION:
URL:https://ccadance.com/event/mid-season-session-6-weeks/
END:VEVENT
BEGIN:VEVENT
DTSTART;TZID=UTC:20250220T170000
DTEND;TZID=UTC:20250220T210000
DTSTAMP:20260423T084909
CREATED:20250218T224123Z
LAST-MODIFIED:20250218T224539Z
UID:4070-1740070800-1740085200@ccadance.com
SUMMARY:SrCo 2.20 Rehearsal
DESCRIPTION:Attire: Dress code BLACK – any black leo (you need the blue one clean for Saturday); tights for ballet/pointe\, blk jazz pants all other genre; any low bun\, studs only\, black jazz shoes\,  BRING ALL SHOES. \n6:30-6:45 QUICK review of Saturday itinerary if any parents want to pop in at 6:25 \nNOTE: mandatory parent mtg Feb 27\, 6:30p  \nSchedule: Reh 2.20_25 \n 
URL:https://ccadance.com/event/srco-2-20-rehearsal/
END:VEVENT
BEGIN:VEVENT
DTSTART;TZID=UTC:20250220T183000
DTEND;TZID=UTC:20250220T200000
DTSTAMP:20260423T084909
CREATED:20250218T224452Z
LAST-MODIFIED:20250218T224452Z
UID:4072-1740076200-1740081600@ccadance.com
SUMMARY:JrCo 2.20 rehearsal
DESCRIPTION:Attire: Dress code BLUE\, black jazz pants and shoes\, high pony\, no jewelry except studs. \n*Begin in Studio D with warm up\, review \nMake sure to bring socks every week to wear with Hip Hop sneakers which will stay at CC. \n*Might be starting ballet soon. Make sure to have ballet shoes with you each week. \nNOTE: mandatory parent mtg Feb 27\, 6:30p 
URL:https://ccadance.com/event/jrco-2-20-rehearsal/
END:VEVENT
END:VCALENDAR