BEGIN:VCALENDAR
VERSION:2.0
PRODID:-//Curtain Call Dance Center - ECPv6.15.20//NONSGML v1.0//EN
CALSCALE:GREGORIAN
METHOD:PUBLISH
X-WR-CALNAME:Curtain Call Dance Center
X-ORIGINAL-URL:https://ccadance.com
X-WR-CALDESC:Events for Curtain Call Dance Center
REFRESH-INTERVAL;VALUE=DURATION:PT1H
X-Robots-Tag:noindex
X-PUBLISHED-TTL:PT1H
BEGIN:VTIMEZONE
TZID:UTC
BEGIN:STANDARD
TZOFFSETFROM:+0000
TZOFFSETTO:+0000
TZNAME:UTC
DTSTART:20240101T000000
END:STANDARD
END:VTIMEZONE
BEGIN:VEVENT
DTSTART;VALUE=DATE:20250116
DTEND;VALUE=DATE:20250314
DTSTAMP:20260424T000924
CREATED:20240717T163923Z
LAST-MODIFIED:20241106T194755Z
UID:3824-1736985600-1741910399@ccadance.com
SUMMARY:Mid-Season Session (9 weeks)
DESCRIPTION:
URL:https://ccadance.com/event/mid-season-session-6-weeks/
END:VEVENT
BEGIN:VEVENT
DTSTART;TZID=UTC:20250213T170000
DTEND;TZID=UTC:20250213T210000
DTSTAMP:20260424T000924
CREATED:20250212T022252Z
LAST-MODIFIED:20250212T022252Z
UID:4062-1739466000-1739480400@ccadance.com
SUMMARY:SrCo 2.13 Rehearsal
DESCRIPTION:Happy (almost) Valentine’s Day! \nAttire: Spirit Night! Wear RED or PINK formfitting\, danceable attire\, black jazz shoes\, low pony\, no jewelry except studs. \nBRING ALL SHOES \nSchedule: Reh 2.13_25 \nNOTE: mandatory parent mtg Feb 27\, 6:30p 
URL:https://ccadance.com/event/srco-2-13-rehearsal/
END:VEVENT
BEGIN:VEVENT
DTSTART;TZID=UTC:20250213T183000
DTEND;TZID=UTC:20250213T200000
DTSTAMP:20260424T000924
CREATED:20250212T021631Z
LAST-MODIFIED:20250212T022328Z
UID:4061-1739471400-1739476800@ccadance.com
SUMMARY:JrCo 2.13 Rehearsal
DESCRIPTION:Happy (almost) Valentine’s Day! \nAttire: Spirit Night! Wear RED or PINK formfitting\, danceable attire\, black jazz shoes\, high pony\, no jewelry except studs. \n*Begin in Studio D with warm up\, review \nMake sure to bring socks every week to wear with Hip Hop sneakers which will stay at CC. \n*Might be starting ballet soon. Make sure to have ballet shoes with you each week. \nNOTE: mandatory parent mtg Feb 27\, 6:30p 
URL:https://ccadance.com/event/jrco-2-13-rehearsal/
END:VEVENT
END:VCALENDAR