BEGIN:VCALENDAR
VERSION:2.0
PRODID:-//Curtain Call Dance Center - ECPv6.15.20//NONSGML v1.0//EN
CALSCALE:GREGORIAN
METHOD:PUBLISH
X-WR-CALNAME:Curtain Call Dance Center
X-ORIGINAL-URL:https://ccadance.com
X-WR-CALDESC:Events for Curtain Call Dance Center
REFRESH-INTERVAL;VALUE=DURATION:PT1H
X-Robots-Tag:noindex
X-PUBLISHED-TTL:PT1H
BEGIN:VTIMEZONE
TZID:UTC
BEGIN:STANDARD
TZOFFSETFROM:+0000
TZOFFSETTO:+0000
TZNAME:UTC
DTSTART:20240101T000000
END:STANDARD
END:VTIMEZONE
BEGIN:VEVENT
DTSTART;VALUE=DATE:20250116
DTEND;VALUE=DATE:20250314
DTSTAMP:20260424T000054
CREATED:20240717T163923Z
LAST-MODIFIED:20241106T194755Z
UID:3824-1736985600-1741910399@ccadance.com
SUMMARY:Mid-Season Session (9 weeks)
DESCRIPTION:
URL:https://ccadance.com/event/mid-season-session-6-weeks/
END:VEVENT
BEGIN:VEVENT
DTSTART;TZID=UTC:20250206T170000
DTEND;TZID=UTC:20250206T210000
DTSTAMP:20260424T000054
CREATED:20250204T233736Z
LAST-MODIFIED:20250205T025152Z
UID:4058-1738861200-1738875600@ccadance.com
SUMMARY:SrCo 2.6 Rehearsal
DESCRIPTION:Attire: dress code BLUE\, tights for ballet/pnte\, jz pants for all other genre. *Bring all shoes\, any slick low pony\, no jewelry except studs. \n*There will be hearts for you to write a short Valentine message for the nursing homes. Each dancer will do 5. TLs have the sentence you are to write and will share it with you.  \nSchedule: Reh 2.6_25
URL:https://ccadance.com/event/srco-2-6-rehearsal/
END:VEVENT
BEGIN:VEVENT
DTSTART;TZID=UTC:20250206T183000
DTEND;TZID=UTC:20250206T200000
DTSTAMP:20260424T000054
CREATED:20250204T051211Z
LAST-MODIFIED:20250204T051211Z
UID:4056-1738866600-1738872000@ccadance.com
SUMMARY:JrCo 2.6 Rehearsal
DESCRIPTION:Attire: Dress code BLUE\, black Jz pants\, black Jz shoes\, high pony\, no jewelry except studs. \nWarm up Studio D\, *bring socks for HH shoes. \nPERFORMANCE: Feb 7 – Choreographers Workshop \n-If you are a dancer in a student workshop piece\, follow Miss Terri’s itinerary. \n-Additional JrCo members itinerary is as follows: \nArrive at CC at 6:00. \nHair: high pony \nMakeup: lipstick \nCostume: jazz costume\, tan\, tights\, tan shoes – hip-hop costume will be at the studio\, bring socks. \nDone by 7:30 \nAll questions can be directed to Laurie
URL:https://ccadance.com/event/jrco-2-6-rehearsal/
END:VEVENT
END:VCALENDAR