BEGIN:VCALENDAR
VERSION:2.0
PRODID:-//Curtain Call Dance Center - ECPv6.15.20//NONSGML v1.0//EN
CALSCALE:GREGORIAN
METHOD:PUBLISH
X-ORIGINAL-URL:https://ccadance.com
X-WR-CALDESC:Events for Curtain Call Dance Center
REFRESH-INTERVAL;VALUE=DURATION:PT1H
X-Robots-Tag:noindex
X-PUBLISHED-TTL:PT1H
BEGIN:VTIMEZONE
TZID:UTC
BEGIN:STANDARD
TZOFFSETFROM:+0000
TZOFFSETTO:+0000
TZNAME:UTC
DTSTART:20230101T000000
END:STANDARD
END:VTIMEZONE
BEGIN:VEVENT
DTSTART;VALUE=DATE:20241101
DTEND;VALUE=DATE:20241201
DTSTAMP:20260425T163845
CREATED:20240727T221708Z
LAST-MODIFIED:20240727T221708Z
UID:3867-1730419200-1733011199@ccadance.com
SUMMARY:Calendar fundraiser- Dance Against Cancer
DESCRIPTION:
URL:https://ccadance.com/event/calendar-fundraiser-dance-against-cancer/
END:VEVENT
BEGIN:VEVENT
DTSTART;TZID=UTC:20241125T070000
DTEND;TZID=UTC:20241125T090000
DTSTAMP:20260425T163845
CREATED:20241008T181617Z
LAST-MODIFIED:20241105T153508Z
UID:3949-1732518000-1732525200@ccadance.com
SUMMARY:Nut 11.25 "ON TOUR"
DESCRIPTION:IPS School 61 – 4326 Patricia St \nCall 7:15a / Show 8a\, depart 8:45-9:00a \nItinerary: TourItinerary.IPS \n*return costumes TONIGHT
URL:https://ccadance.com/event/nut-11-25-on-tour/
END:VEVENT
END:VCALENDAR