BEGIN:VCALENDAR
VERSION:2.0
PRODID:-//Curtain Call Dance Center - ECPv6.15.20//NONSGML v1.0//EN
CALSCALE:GREGORIAN
METHOD:PUBLISH
X-WR-CALNAME:Curtain Call Dance Center
X-ORIGINAL-URL:https://ccadance.com
X-WR-CALDESC:Events for Curtain Call Dance Center
REFRESH-INTERVAL;VALUE=DURATION:PT1H
X-Robots-Tag:noindex
X-PUBLISHED-TTL:PT1H
BEGIN:VTIMEZONE
TZID:UTC
BEGIN:STANDARD
TZOFFSETFROM:+0000
TZOFFSETTO:+0000
TZNAME:UTC
DTSTART:20230101T000000
END:STANDARD
END:VTIMEZONE
BEGIN:VEVENT
DTSTART;TZID=UTC:20241019T080000
DTEND;TZID=UTC:20241019T140000
DTSTAMP:20260420T161943
CREATED:20241015T170741Z
LAST-MODIFIED:20241016T012259Z
UID:3955-1729324800-1729346400@ccadance.com
SUMMARY:Nut 10.19 Rehearsal
DESCRIPTION:BIG day today! We are learning the Finale\, first in small ensemble groups\, then putting the entire thing together! See schedule for details and list of Act II dancers in the Finale. \nAlso – beginning to end of Party Scene; we will clarify\, perfect musicality and timing and run for both casts. Bring cover ups in case get cold waiting for run of your section. \nAttire: dress code ballet\, buns\, no earrings/jewelry except studs \nBring healthful snacks and water \nSchedule: Oct 19_24
URL:https://ccadance.com/event/nut-10-19-rehearsal/
END:VEVENT
END:VCALENDAR