BEGIN:VCALENDAR
VERSION:2.0
PRODID:-//Curtain Call Dance Center - ECPv6.15.20//NONSGML v1.0//EN
CALSCALE:GREGORIAN
METHOD:PUBLISH
X-WR-CALNAME:Curtain Call Dance Center
X-ORIGINAL-URL:https://ccadance.com
X-WR-CALDESC:Events for Curtain Call Dance Center
REFRESH-INTERVAL;VALUE=DURATION:PT1H
X-Robots-Tag:noindex
X-PUBLISHED-TTL:PT1H
BEGIN:VTIMEZONE
TZID:UTC
BEGIN:STANDARD
TZOFFSETFROM:+0000
TZOFFSETTO:+0000
TZNAME:UTC
DTSTART:20230101T000000
END:STANDARD
END:VTIMEZONE
BEGIN:VEVENT
DTSTART;TZID=UTC:20241005T080000
DTEND;TZID=UTC:20241005T090000
DTSTAMP:20260420T161948
CREATED:20240110T210349Z
LAST-MODIFIED:20240814T142036Z
UID:3441-1728115200-1728118800@ccadance.com
SUMMARY:Nutcracker Coffee Chat
DESCRIPTION:8a – COFFEE PROVIDED! \nMandatory parent meeting for comprehensive walk thru of rehearsal progress to date\, sponsorship requests\, and dress rehearsal\, picture\, show weekend procedures.
URL:https://ccadance.com/event/nutcracker-coffee-chat/
END:VEVENT
BEGIN:VEVENT
DTSTART;TZID=UTC:20241005T080000
DTEND;TZID=UTC:20241005T130000
DTSTAMP:20260420T161948
CREATED:20240930T014059Z
LAST-MODIFIED:20240930T014713Z
UID:3929-1728115200-1728133200@ccadance.com
SUMMARY:Nut 10.5 Rehearsal
DESCRIPTION:Attire: dress code ballet\, buns\, no jewelry except studs\, bring water!\, snacks if there long \nTODAY: \n\n8a – Coffee Chat w parents\, LOTS of info parents!\nLOTS of combined scenes happening this weekend and also room hopping…look ahead\, be prepared\, stay focused. No rehearsal on Oct 12\, so we need to make the very most of every second we have together.\n\nSchedule: Oct 5_24
URL:https://ccadance.com/event/nut-10-5-rehearsal/
END:VEVENT
BEGIN:VEVENT
DTSTART;TZID=UTC:20241005T133000
DTEND;TZID=UTC:20241005T170000
DTSTAMP:20260420T161948
CREATED:20240710T225731Z
LAST-MODIFIED:20241003T183835Z
UID:3796-1728135000-1728147600@ccadance.com
SUMMARY:PC Family Hike 10.5
DESCRIPTION:1:30/:45p – 4:45p It’s our annual FALL FAMILY hike for JrCo & SrCo! \nBring a water bottle for the hike and food and snacks for your family to enjoy when we are at the shelter. \nBring blankets and lawn chairs in case we run out of room in the shelter\, the picnic tables in the shelter will be reserved for the dancers to group together. \nWe will begin some activities with the dancers at 1:45p\, so try to arrive close to 1:30p. Dancers and any family members that wish to go along will take a hike approx 2:15p. \nEagle Creek Park – enter at 56th street\, $6 per vehicle \n\nDrive straight back on Eagle Creek Pkway\, turn right on 65th St\, and take the first right.\nAs it T’s/dead-ends\, turn left and the shelter sign for Shelter H will direct you to go right at the bathrooms.\n\nShelter H is clearly marked. Most of the shelters are in the same general area\, but the roads get a little curvy and ambiguous. I found this to be the most direct\, easiest route. \nHere is a map and I have highlighted in yellow the route to shelter H: ECrk Map
URL:https://ccadance.com/event/pc-family-hike-cookout/
END:VEVENT
END:VCALENDAR