BEGIN:VCALENDAR
VERSION:2.0
PRODID:-//Curtain Call Dance Center - ECPv6.15.20//NONSGML v1.0//EN
CALSCALE:GREGORIAN
METHOD:PUBLISH
X-WR-CALNAME:Curtain Call Dance Center
X-ORIGINAL-URL:https://ccadance.com
X-WR-CALDESC:Events for Curtain Call Dance Center
REFRESH-INTERVAL;VALUE=DURATION:PT1H
X-Robots-Tag:noindex
X-PUBLISHED-TTL:PT1H
BEGIN:VTIMEZONE
TZID:UTC
BEGIN:STANDARD
TZOFFSETFROM:+0000
TZOFFSETTO:+0000
TZNAME:UTC
DTSTART:20230101T000000
END:STANDARD
END:VTIMEZONE
BEGIN:VEVENT
DTSTART;VALUE=DATE:20240301
DTEND;VALUE=DATE:20240401
DTSTAMP:20260424T100844
CREATED:20240110T233437Z
LAST-MODIFIED:20240131T230653Z
UID:3452-1709251200-1711929599@ccadance.com
SUMMARY:Keep Fit Fundraiser for DAC
DESCRIPTION:
URL:https://ccadance.com/event/keep-fit-in-february-fundraiser-for-dac/
END:VEVENT
BEGIN:VEVENT
DTSTART;VALUE=DATE:20240306
DTEND;VALUE=DATE:20240308
DTSTAMP:20260424T100844
CREATED:20230710T233301Z
LAST-MODIFIED:20240110T221716Z
UID:3020-1709683200-1709855999@ccadance.com
SUMMARY:Discover Dance
DESCRIPTION:9 week session  times to be announced \n(3) weeks of jazz \n(3) weeks of tap \n(3) weeks of ballet
URL:https://ccadance.com/event/midseason-classes-8/
LOCATION:Curtain Call Dance Center\, 1833 Expo Ln.\, Indianapolis\, IL\, 46214\, United States
END:VEVENT
BEGIN:VEVENT
DTSTART;TZID=UTC:20240307T170000
DTEND;TZID=UTC:20240307T210000
DTSTAMP:20260424T100844
CREATED:20240306T031649Z
LAST-MODIFIED:20240306T210108Z
UID:3527-1709830800-1709845200@ccadance.com
SUMMARY:SrCo 3.7 Rehearsal
DESCRIPTION:Attire: dress code RED – tights for ballet\, blk jazz pants and blk shoes for all other styles\, hair any low slick pony\, no jewelry except studs \nBring warmies for in between rehearsals and T.E.A.M. time. \nSchedule: Reh 3.7_24 \n 
URL:https://ccadance.com/event/srco-3-7-rehearsal/
END:VEVENT
BEGIN:VEVENT
DTSTART;TZID=UTC:20240307T183000
DTEND;TZID=UTC:20240307T203000
DTSTAMP:20260424T100844
CREATED:20240305T174733Z
LAST-MODIFIED:20240305T174733Z
UID:3525-1709836200-1709843400@ccadance.com
SUMMARY:JrCo 3.7 Rehearsal
DESCRIPTION:Attire: dress code RED\, pony tail\, black jazz pants\, black shoes\, no jewelry except studs. \nPriority: CORN
URL:https://ccadance.com/event/jrco-3-7-rehearsal/
END:VEVENT
END:VCALENDAR