BEGIN:VCALENDAR
VERSION:2.0
PRODID:-//Curtain Call Dance Center - ECPv6.15.20//NONSGML v1.0//EN
CALSCALE:GREGORIAN
METHOD:PUBLISH
X-WR-CALNAME:Curtain Call Dance Center
X-ORIGINAL-URL:https://ccadance.com
X-WR-CALDESC:Events for Curtain Call Dance Center
REFRESH-INTERVAL;VALUE=DURATION:PT1H
X-Robots-Tag:noindex
X-PUBLISHED-TTL:PT1H
BEGIN:VTIMEZONE
TZID:UTC
BEGIN:STANDARD
TZOFFSETFROM:+0000
TZOFFSETTO:+0000
TZNAME:UTC
DTSTART:20220101T000000
END:STANDARD
END:VTIMEZONE
BEGIN:VEVENT
DTSTART;TZID=UTC:20230530T170000
DTEND;TZID=UTC:20230530T200000
DTSTAMP:20260420T130138
CREATED:20230222T042644Z
LAST-MODIFIED:20230222T042644Z
UID:2786-1685466000-1685476800@ccadance.com
SUMMARY:PC End of Year Banquet
DESCRIPTION:Performing Company End of Year Banquet \n5-8p \nFormal attire-details TBA
URL:https://ccadance.com/event/pc-end-of-year-banquet/
END:VEVENT
END:VCALENDAR